BEGIN:VCALENDAR
VERSION:2.0
PRODID:-//Lada Treffen - ECPv6.15.20//NONSGML v1.0//EN
CALSCALE:GREGORIAN
METHOD:PUBLISH
X-ORIGINAL-URL:https://ilnt.de
X-WR-CALDESC:Veranstaltungen für Lada Treffen
REFRESH-INTERVAL;VALUE=DURATION:PT1H
X-Robots-Tag:noindex
X-PUBLISHED-TTL:PT1H
BEGIN:VTIMEZONE
TZID:Europe/Berlin
BEGIN:DAYLIGHT
TZOFFSETFROM:+0100
TZOFFSETTO:+0200
TZNAME:CEST
DTSTART:20220327T010000
END:DAYLIGHT
BEGIN:STANDARD
TZOFFSETFROM:+0200
TZOFFSETTO:+0100
TZNAME:CET
DTSTART:20221030T010000
END:STANDARD
BEGIN:DAYLIGHT
TZOFFSETFROM:+0100
TZOFFSETTO:+0200
TZNAME:CEST
DTSTART:20230326T010000
END:DAYLIGHT
BEGIN:STANDARD
TZOFFSETFROM:+0200
TZOFFSETTO:+0100
TZNAME:CET
DTSTART:20231029T010000
END:STANDARD
BEGIN:DAYLIGHT
TZOFFSETFROM:+0100
TZOFFSETTO:+0200
TZNAME:CEST
DTSTART:20240331T010000
END:DAYLIGHT
BEGIN:STANDARD
TZOFFSETFROM:+0200
TZOFFSETTO:+0100
TZNAME:CET
DTSTART:20241027T010000
END:STANDARD
END:VTIMEZONE
BEGIN:VEVENT
DTSTART;TZID=Europe/Berlin:20230915T150000
DTEND;TZID=Europe/Berlin:20230917T170000
DTSTAMP:20260423T210935
CREATED:20230617T011305Z
LAST-MODIFIED:20231102T233052Z
UID:1865-1694790000-1694970000@ilnt.de
SUMMARY:Adventure Northside 2023
DESCRIPTION:Vom 15. bis zum 17. September 2023 fand wieder die Offroad- und Survival Messe Adventure Northside auf dem Gutshof Gut Basthorst statt. Lada Niva Fans und die Lada Niva IG waren wie schon viele Jahre davor auch diesmal wieder mit einem Camp auf der Offroadmesse 2023 dabei. Mehr Infos über die Adventure Northside  Offroad- und Survival-Messe gibt es unter: https://adventurenorthside.de \nFotos und Videos über die zurückliegende Adventure Northside 2023: \nLada Fans auf der Adventure Northside 2023\n  \n  \n\nVom 15. bis 17. September findet die Adventure Northside auf Gut Basthorst statt; eine Messe zum Thema Offroad\, Survival und Bushcraft\, bei der in den vergangenen Jahren zahlreiche Aussteller aus allen Bereichen anwesend waren und auch Vorträge und Workshops angeboten wurden. Das gesamte Gut verwandelt sich dafür zum Einen in ein Messegelände in außerordentlich schönem Ambiente\, als auch in einen großen Campground für die teils weit angereisten Übernachtungsgäste. (Der Camping-Bereich ist im Übrigen ähnlich interessant anzuschauen wie die Stände der Aussteller. Hier sieht man Fahrzeuge\, die tatsächlich die Welt gesehen haben und ihre Tauglichkeit bereits unter Beweis gestellt haben.) \nDank des Einsatzes von Christian Tänzer ist es uns 2023 dann das fünfte Mal möglich\, dort einen gut gelegenen Bereich für die Lada-Niva-IG Deutschland e.V. zu sichern. \nFazit: Eine lohnenswerte Veranstaltung\, für die sich auch eine längere Anreise absolut lohnt\, ein entspannter Veranstalter\, nette Standkollegen und jede Menge Spaß! \n  \nDamit wir ein möglichst breites Spektrum der Niva-Welt zeigen können freuen wir uns über jeden Lada Niva / 4×4 / Taiga / Urban / Pickup / Pritsche . Bei Fragen zu unserem Stand wendet euch an christian.taenzer [at] lada-niva-ig.de \nMit bestem Gruße\nDas Orga Team der Lada Niva IG Deutschland e.V. \nhttps://adventurenorthside.de/ \n  \n \n 
URL:https://ilnt.de/veranstaltung/adventure-northside-2023/
LOCATION:Gut Basthorst\, Auf dem Gut 3\, Basthorst\, 21493
CATEGORIES:AdventureNorthside,Herbsttreffen,LADAtreffen,Messen,Offroad-Messe
END:VEVENT
END:VCALENDAR