BEGIN:VCALENDAR
VERSION:2.0
PRODID:-//Lada Treffen - ECPv6.15.20//NONSGML v1.0//EN
CALSCALE:GREGORIAN
METHOD:PUBLISH
X-ORIGINAL-URL:https://ilnt.de
X-WR-CALDESC:Veranstaltungen für Lada Treffen
REFRESH-INTERVAL;VALUE=DURATION:PT1H
X-Robots-Tag:noindex
X-PUBLISHED-TTL:PT1H
BEGIN:VTIMEZONE
TZID:Europe/Berlin
BEGIN:DAYLIGHT
TZOFFSETFROM:+0100
TZOFFSETTO:+0200
TZNAME:CEST
DTSTART:20230326T010000
END:DAYLIGHT
BEGIN:STANDARD
TZOFFSETFROM:+0200
TZOFFSETTO:+0100
TZNAME:CET
DTSTART:20231029T010000
END:STANDARD
BEGIN:DAYLIGHT
TZOFFSETFROM:+0100
TZOFFSETTO:+0200
TZNAME:CEST
DTSTART:20240331T010000
END:DAYLIGHT
BEGIN:STANDARD
TZOFFSETFROM:+0200
TZOFFSETTO:+0100
TZNAME:CET
DTSTART:20241027T010000
END:STANDARD
BEGIN:DAYLIGHT
TZOFFSETFROM:+0100
TZOFFSETTO:+0200
TZNAME:CEST
DTSTART:20250330T010000
END:DAYLIGHT
BEGIN:STANDARD
TZOFFSETFROM:+0200
TZOFFSETTO:+0100
TZNAME:CET
DTSTART:20251026T010000
END:STANDARD
END:VTIMEZONE
BEGIN:VEVENT
DTSTART;VALUE=DATE:20240704
DTEND;VALUE=DATE:20240708
DTSTAMP:20260421T023012
CREATED:20231201T115403Z
LAST-MODIFIED:20240522T174304Z
UID:6202-1720051200-1720396799@ilnt.de
SUMMARY:Sommertreffen der Lada Niva IG 2024
DESCRIPTION:Das nächste internationale Sommer-Treffen der Lada Niva IG findet vom 4. bis 7. Juli 2024 im Mammutpark statt. \nIm Juli möchte die Lada Niva IG wieder unser Internationales Lada Niva Treffen veranstalten! Hierzu gab es Ende letzten Jahres eine Postkarten-Aktion mit Gewinnspiel\, um möglichst viele Vorschläge für ein Treffen einzusammeln. Am Ende der Auswertungen und Beratungen kam heraus\, dass neben dem sehr guten Preis-Leistungs-Verhältnis der Mammutpark zu viele Vorteile gegenüber anderen Alternativen zu bieten hat. Daher wird das Treffen wieder im Mammutpark stattfinden. \nFür die Mitglieder der IG wird der Verein die Campinggebühren als Bonus übernehmen. Wie in den letzten Jahren auch\, sind auch Nicht-Mitglieder oder Noch-Nicht-Mitglieder herzlich eingeladen! Die Anmeldung erfolgt in Eigenregie beim Mammutpark. Bitte gern mit dem Hinweis „Ladatreffen“. Damit wir aber unser Programm besser planen können\, schreibt uns auch gern eine kurze Mail an treffenorga@lada-niva-ig.de \, wenn ihr zum Sommertreffen in den Mammutpark kommen möchtet. Gerne freuen wir uns über eure Teilnahme und eventuell könnt ihr noch ein bisschen Werbung für unseren Verein und das Treffen machen. Je mehr Mitglieder wir sind\, desto mehr können wir euch bieten! \n  \nWarum wieder im Mammutpark? \nUm möglichst viele Vorschläge für ein Sommertreffen zusammen zu bekommen\, hat die Lada Niva IG Ende 2023 eine Postkarten-Aktion mit Gewinnspiel gemacht\, um möglichst viele Vorschläge für ein Treffen einzusammeln.  Daran haben sich auch viele Mitglieder beteiligt und es sind eine ganze Reihe an Vorschlägen zusammen gekommen. Hierfür möchten wir uns an dieser Stelle noch einmal herzlich bedanken. Nach weiteren Recherchen zu Preisen\, Anfragen bei vielen Ort zu den näheren Rahmenbedingungen (z.B. WC-Anlagen) usw. hat das Orga-Team über mehrere Orte in der engeren Auswahl beraten und auch eine Kosten-Nutzen-Abwägung vorgenommen. Dabei ging es zum einen darum\, welche Rahmenbedingungen geboten werden\, und zum anderen natürlich auch nach dem Preis. Damit dies transparent nachverfolgt werden kann\, hat die Lada Niva IG eine tabellarische Auflistung in der Mitgliederrundmail verschickt.  \nAm Ende der Beratung kam heraus\, dass neben dem sehr guten Preis-Leistungs-Verhältnis der Mammutpark zu viele Vorteile gegenüber anderen Alternativen zu bieten hat. Wir wissen natürlich das viele Lada Fans sich ein internationales Lada Niva Treffen weiter südlich gewünscht hätten\, das scheint aber auch in der Zukunft eher unwahrscheinlich zu sein.  Neben der Abwägung von Preisen und Leistungen kommt hier noch der Vorteil hinzu\, dass der Mammutpark relativ zentral in Deutschland gelegen ist und somit auch Mitglieder aus Nord oder Süd\, Ost oder West\, einen vergleichbar überschaubaren Aufwand haben sollten\, zu unserem Sommertreffen anzureisen. In Zeiten steigender Preise sind eben auch die Fahrtkosten ein nicht zu unterschätzender Faktor. \nAus organisatorischen Gründen hat sich das Orga-Team darauf verständigt\, ab diesem Jahr immer das bereits schon etablierte erste Juli-Wochenende für unser Internationales Sommer-Treffen zu nehmen und diese nun regelmäßig im Mammutpark zu veranstalten. So könnt ihr terminlich weiträumig planen und kennt auch die Übernachtungs- und Teilnahme-Optionen\, die zur Auswahl stehen\, frühzeitig. Zudem können wir zukünftig unseren Aufwand reduzieren und Vereinsinventar direkt vor Ort lagern (weniger Transportkosten für uns). Zudem bringt es zu guter Letzt natürlich auch Planungs-Sicherheit für den Mammutpark und uns einen festen Platz im Jahreskalender. Der Freizeitpark Mammut bietet ein ordentliches Gelände\, erstklassiges Essen in einem Restaurant oder Grillmöglichkeiten für Freunde der Selbstversorgung (leider heutzutage keine Selbstverständlichkeit mehr\, in sehr vielen Offroadsparks ist inzwischen offenes Feuer und Grillen untersagt\, im Mammutpark ist Lagerfeuer noch erlaubt). Der Freizeitpark hat eine wetterfeste Toiletten-Anlage mit ausreichend Kabinen und saubere Duschen. Zudem gibt es Strom für alle und unschlagbare Preise. Jeder kann sich seine Preise indivduell zusammenstellen. Ob Tagesgast\, Teilnahme am Offroad oder nicht\, Teilnahme mit Camping oder nicht. Auch Nicht-Camper können in „normalen“ Betten in der Kaserne übernachten. \nDas nächste internationale Sommer-Treffen findet vom 4. bis 7. Juli 2024 statt. \nFür die Mitglieder der IG wird der Verein die Campinggebühren als Bonus übernehmen. Wie in den letzten Jahren auch\, sind auch Nicht-Mitglieder oder Noch-Nicht-Mitglieder herzlich eingeladen! Die Anmeldung erfolgt in Eigenregie beim Mammutpark. Bitte gern mit dem Hinweis „Ladatreffen“. Damit wir aber unser Programm besser planen können\, schreibt uns auch gern eine kurze Mail an treffenorga@lada-niva-ig.de \, wenn ihr zum Sommertreffen in den Mammutpark kommen möchtet. Gerne freuen wir uns über eure Teilnahme und eventuell könnt ihr noch ein bisschen Werbung für unseren Verein und das Treffen machen. Je mehr Mitglieder wir sind\, desto mehr können wir euch bieten! \n 
URL:https://ilnt.de/veranstaltung/sommertreffen-der-lada-niva-ig-2024/
LOCATION:Freizeitpark Mammut\, Linnenkämper Straße 41\, Stadtoldendorf\, 37627
CATEGORIES:internationales Sommertreffen,Lada Niva Interessengemeinschaft,LADAtreffen,Offroad-Park,Sommertreffen
END:VEVENT
END:VCALENDAR