BEGIN:VCALENDAR
VERSION:2.0
PRODID:-//Lada Treffen - ECPv6.15.20//NONSGML v1.0//EN
CALSCALE:GREGORIAN
METHOD:PUBLISH
X-ORIGINAL-URL:https://ilnt.de
X-WR-CALDESC:Veranstaltungen für Lada Treffen
REFRESH-INTERVAL;VALUE=DURATION:PT1H
X-Robots-Tag:noindex
X-PUBLISHED-TTL:PT1H
BEGIN:VTIMEZONE
TZID:Europe/Berlin
BEGIN:DAYLIGHT
TZOFFSETFROM:+0100
TZOFFSETTO:+0200
TZNAME:CEST
DTSTART:20240331T010000
END:DAYLIGHT
BEGIN:STANDARD
TZOFFSETFROM:+0200
TZOFFSETTO:+0100
TZNAME:CET
DTSTART:20241027T010000
END:STANDARD
BEGIN:DAYLIGHT
TZOFFSETFROM:+0100
TZOFFSETTO:+0200
TZNAME:CEST
DTSTART:20250330T010000
END:DAYLIGHT
BEGIN:STANDARD
TZOFFSETFROM:+0200
TZOFFSETTO:+0100
TZNAME:CET
DTSTART:20251026T010000
END:STANDARD
BEGIN:DAYLIGHT
TZOFFSETFROM:+0100
TZOFFSETTO:+0200
TZNAME:CEST
DTSTART:20260329T010000
END:DAYLIGHT
BEGIN:STANDARD
TZOFFSETFROM:+0200
TZOFFSETTO:+0100
TZNAME:CET
DTSTART:20261025T010000
END:STANDARD
END:VTIMEZONE
BEGIN:VEVENT
DTSTART;TZID=Europe/Berlin:20250503T080000
DTEND;TZID=Europe/Berlin:20250503T220000
DTSTAMP:20260420T060749
CREATED:20250301T115958Z
LAST-MODIFIED:20250503T120552Z
UID:7077-1746259200-1746309600@ilnt.de
SUMMARY:Frühjahrsteffen vom Lada Club Deutschland
DESCRIPTION:Der Lada Club Deutschland e.V. freut sich\, Lada-Fans am 03.05.2025 ab 8:00 Uhr in 06772 Gräfenhainichen/OT Zschornewitz auf dem Rathausplatz 2\, direkt am Imbiss Feuerkessel\, zum 13. Frühjahrstreffen begrüßen zu dürfen:\n \nWir sammeln uns dort zu den bekannten Benzingesprächen.\n11:00 Uhr startet die Ausfahrt zum Kulturprogramm in Richtung Oranienbaum\, dort parken wir die Ladas bei Busunternehmen Heinrich (ehem. Kraftverkehr) und steigen um in einen Oldtimer Linienbus sowie einen Oldtimer Doppelstock Bus. Von dort aus werden wir gemütlich zum Bauernmuseum Zahna gefahren\, da findet die Kaffee und Kuchenpause statt\, zudem warten viele interessante Ausstellungen auf eure neugierigen Blicke. Es besteht die Möglichkeit unter Begleitung hist. Ackerschlepper zu fahren\, an einem Kuhsimulator melken zu üben oder Wäsche zu waschen wie vor 80 Jahren. Das weitläufige Museum bietet jede Menge Abwechslung und spannende Unterhaltung.\nGegen 15:30 Uhr werden wir zurück gefahren nach Oranienbaum. Von dort aus geht es nach Gräfenhainichen in das Kolonialwarengeschäft und die hist. Bauschlosserei August Reinhard. Hier machen wir eine Reise zurück in die Vergangenheit und erleben hautnah Berufe die es so nicht mehr gibt und ein 100 Jahre altes Kolonialwarengeschäft lädt ein zum Stöbern und Staunen.\nAb 19:00 Uhr findet als Abschluss das gemütliche Beisammensein mit reichhaltigen Buffetessen im Speisesaal der Fa. Imerys (ehem. Elektroschmelze Zschornewitz) in der Burgkemnitzer Str. 17\, 06772 Zschornewitz statt.\n \nDer Unkostenbeitrag beträgt für ein Clubmitglied 70€\, deren Partner bezahlen ebenfalls 70€ Euro.\nKinder bis 12 Jahre sind mit 25€ dabei. Nicht Mitglieder zahlen 80€.\nDer Unkostenbeitrag enthält die Platzmiete\, Saalmiete\, Miet-WC Omnibusreise\, Eintritt Bauern- und Schmiedemuseum sowie das Abendessen als Buffet.\nGetränke zum Abendessen sowie die Kaffee und Kuchenpause sind von jedem selbst zu bezahlen.\nDie Bewertung der schönsten Fahrzeuge wird dieses Jahr von der Dekra vorgenommen.\nEine verbindliche Anmeldung für Teilnehmer ist zwingend erforderlich!\nBei unentschuldigten Fernbleiben erfolgt keine Rückzahlung des Unkostenbeitrages.\nAnreise ist wie immer ab Freitag den 02.05.2025 möglich\, das Treffen startet wie gewohnt zum Grillabend im Hotel zur Müllerin\, Dornewitzerstr. 2 in 06773 Gräfenhainichen ab 18:00 Uhr (Kosten übernimmt jeder selbst).\n \nAnmeldung und weitere Informationen gibt es hier: Lada Club Deutschland e.V.
URL:https://ilnt.de/veranstaltung/fruehjahrsteffen-vom-lada-club-deutschland/
CATEGORIES:Frühjahrstreffen,Lada Club Deutschland,LADAtreffen
END:VEVENT
END:VCALENDAR