BEGIN:VCALENDAR
VERSION:2.0
PRODID:-//Lada Treffen - ECPv6.15.20//NONSGML v1.0//EN
CALSCALE:GREGORIAN
METHOD:PUBLISH
X-WR-CALNAME:Lada Treffen
X-ORIGINAL-URL:https://ilnt.de
X-WR-CALDESC:Veranstaltungen für Lada Treffen
REFRESH-INTERVAL;VALUE=DURATION:PT1H
X-Robots-Tag:noindex
X-PUBLISHED-TTL:PT1H
BEGIN:VTIMEZONE
TZID:Europe/Berlin
BEGIN:DAYLIGHT
TZOFFSETFROM:+0100
TZOFFSETTO:+0200
TZNAME:CEST
DTSTART:20240331T010000
END:DAYLIGHT
BEGIN:STANDARD
TZOFFSETFROM:+0200
TZOFFSETTO:+0100
TZNAME:CET
DTSTART:20241027T010000
END:STANDARD
BEGIN:DAYLIGHT
TZOFFSETFROM:+0100
TZOFFSETTO:+0200
TZNAME:CEST
DTSTART:20250330T010000
END:DAYLIGHT
BEGIN:STANDARD
TZOFFSETFROM:+0200
TZOFFSETTO:+0100
TZNAME:CET
DTSTART:20251026T010000
END:STANDARD
BEGIN:DAYLIGHT
TZOFFSETFROM:+0100
TZOFFSETTO:+0200
TZNAME:CEST
DTSTART:20260329T010000
END:DAYLIGHT
BEGIN:STANDARD
TZOFFSETFROM:+0200
TZOFFSETTO:+0100
TZNAME:CET
DTSTART:20261025T010000
END:STANDARD
END:VTIMEZONE
BEGIN:VEVENT
DTSTART;TZID=Europe/Berlin:20250815T170000
DTEND;TZID=Europe/Berlin:20250817T120000
DTSTAMP:20260420T101018
CREATED:20250627T185442Z
LAST-MODIFIED:20250727T111820Z
UID:7757-1755277200-1755432000@ilnt.de
SUMMARY:Russentreffen - russische Fahrzeuge in Königsbrück
DESCRIPTION:Wie vor ein paar Jahren die Made in Russia Treffen findet dieses Jahr wieder ein Treffen von Fans der russischen Fahrzeuge auf dem Gelände vom Offizierskasino Neues Lager Königsbrück statt. Dort werden einige Ladas und Lada Nivas zu sehen sein\, aber auch andere Fahrzeuge aus ursprünglicher sowjetischer oder russischer Bauart… \nNähere Infos folgen noch bzw. gibt es auf der Facebook-Seite mit der Veranstaltungs-Ankündigung…
URL:https://ilnt.de/veranstaltung/russentreffen-russische-fahrzeuge-in-koenigsbrueck/
LOCATION:Offizierskasino Neues Lager Königsbrück\, Hoyerswerdaer Str. 117\, Königsbrück\, 01936
CATEGORIES:Fahrzeugtreffen
END:VEVENT
END:VCALENDAR