BEGIN:VCALENDAR
VERSION:2.0
PRODID:-//Lada Treffen - ECPv6.15.20//NONSGML v1.0//EN
CALSCALE:GREGORIAN
METHOD:PUBLISH
X-WR-CALNAME:Lada Treffen
X-ORIGINAL-URL:https://ilnt.de
X-WR-CALDESC:Veranstaltungen für Lada Treffen
REFRESH-INTERVAL;VALUE=DURATION:PT1H
X-Robots-Tag:noindex
X-PUBLISHED-TTL:PT1H
BEGIN:VTIMEZONE
TZID:Europe/Berlin
BEGIN:DAYLIGHT
TZOFFSETFROM:+0100
TZOFFSETTO:+0200
TZNAME:CEST
DTSTART:20240331T010000
END:DAYLIGHT
BEGIN:STANDARD
TZOFFSETFROM:+0200
TZOFFSETTO:+0100
TZNAME:CET
DTSTART:20241027T010000
END:STANDARD
BEGIN:DAYLIGHT
TZOFFSETFROM:+0100
TZOFFSETTO:+0200
TZNAME:CEST
DTSTART:20250330T010000
END:DAYLIGHT
BEGIN:STANDARD
TZOFFSETFROM:+0200
TZOFFSETTO:+0100
TZNAME:CET
DTSTART:20251026T010000
END:STANDARD
BEGIN:DAYLIGHT
TZOFFSETFROM:+0100
TZOFFSETTO:+0200
TZNAME:CEST
DTSTART:20260329T010000
END:DAYLIGHT
BEGIN:STANDARD
TZOFFSETFROM:+0200
TZOFFSETTO:+0100
TZNAME:CET
DTSTART:20261025T010000
END:STANDARD
END:VTIMEZONE
BEGIN:VEVENT
DTSTART;TZID=Europe/Berlin:20251003T170000
DTEND;TZID=Europe/Berlin:20251005T100000
DTSTAMP:20260419T193441
CREATED:20250205T131127Z
LAST-MODIFIED:20250524T121504Z
UID:7574-1759510800-1759658400@ilnt.de
SUMMARY:Herbsttreffen vom Lada Club in Hasselfelde
DESCRIPTION:Der Lada Club Deutschland organisiert jährlich ein Frühjahrstreffen\, ein Sommertreffen\, Herbsttreffen und ein Adventstreffen für Lada Fans. \nWie im letzten Jahr findet auch 2025 das Herbst-Treffen vom Lada Club wieder im Harz von Freitag-Abend (03.10.) bis Sonntag-Morgen (05.10.) in 38899 Hasselfelde statt. Am Samstag\, den 04.10.\, gibt es wieder eine gemeinsame Ausfahrt. \nWeitere Infos gibt es im Forum und auf der Webseite vom Lada Club: https://lada-club.de/ \n 
URL:https://ilnt.de/veranstaltung/herbsttreffen-vom-lada-club-in-hasselfelde/
CATEGORIES:Herbsttreffen,Lada Club Deutschland
END:VEVENT
END:VCALENDAR