BEGIN:VCALENDAR
VERSION:2.0
PRODID:-//Lada Treffen - ECPv6.15.20//NONSGML v1.0//EN
CALSCALE:GREGORIAN
METHOD:PUBLISH
X-ORIGINAL-URL:https://ilnt.de
X-WR-CALDESC:Veranstaltungen für Lada Treffen
REFRESH-INTERVAL;VALUE=DURATION:PT1H
X-Robots-Tag:noindex
X-PUBLISHED-TTL:PT1H
BEGIN:VTIMEZONE
TZID:Europe/Berlin
BEGIN:DAYLIGHT
TZOFFSETFROM:+0100
TZOFFSETTO:+0200
TZNAME:CEST
DTSTART:20240331T010000
END:DAYLIGHT
BEGIN:STANDARD
TZOFFSETFROM:+0200
TZOFFSETTO:+0100
TZNAME:CET
DTSTART:20241027T010000
END:STANDARD
BEGIN:DAYLIGHT
TZOFFSETFROM:+0100
TZOFFSETTO:+0200
TZNAME:CEST
DTSTART:20250330T010000
END:DAYLIGHT
BEGIN:STANDARD
TZOFFSETFROM:+0200
TZOFFSETTO:+0100
TZNAME:CET
DTSTART:20251026T010000
END:STANDARD
BEGIN:DAYLIGHT
TZOFFSETFROM:+0100
TZOFFSETTO:+0200
TZNAME:CEST
DTSTART:20260329T010000
END:DAYLIGHT
BEGIN:STANDARD
TZOFFSETFROM:+0200
TZOFFSETTO:+0100
TZNAME:CET
DTSTART:20261025T010000
END:STANDARD
END:VTIMEZONE
BEGIN:VEVENT
DTSTART;TZID=Europe/Berlin:20250404T070000
DTEND;TZID=Europe/Berlin:20250406T110000
DTSTAMP:20260420T090226
CREATED:20241219T173814Z
LAST-MODIFIED:20250106T234244Z
UID:6587-1743750000-1743937200@ilnt.de
SUMMARY:Jahresmitgliederversammlung der Lada Niva IG 2025 in Mühlhausen
DESCRIPTION:Aufgrund der Überschneidung zweier Veranstaltungen und deshalb nicht fest planbarer Kapazitäten findet die Jahreshauptversammlung vom 4.-6. April 2025 nunmehr in Mühlhausen / Thüringen im Brauhaus zum Löwen statt. \nFür die Mitglieder die übernachten möchten haben wir ein Abrufkontingent an Einzel- und Doppelzimmern mit vereinbarten Festpreisen erhalten. Diese Zimmer kosten 113€ für das Einzelzimmer und 143€ für das Doppelzimmer\, jeweils pro Nacht und immer inklusive Frühstücksbuffet. Parkplätze kosten 9€ pro Nacht und Fahrzeug. \nDas Abrufkontingent steht uns bis zum 28. Februar 2025 zur Verfügung\, nicht gebuchte Zimmer werden danach anderweitig vergeben. Leider können die Zimmer nur für zwei Nächte vom 4.- 6. April 2025 gebucht werden! \nWer also nur eine Nacht kommen möchte müsste sich eine alternative Unterkunft suchen: Booking \nOb der Campingplatz in Mühlhausen an dem Wochenende schon geöffnet hat ist noch in Klärung. \nGeplanter Ablauf: \n  \nFreitag \n– Anreise und Abends gemütliches Beisammensein im Brauhaus (Tischreservierung erforderlich) \nSamstag \n– ca. 10.00 Uhr Führung durch die Altstadt der mittelalterlichen Reichsstadt Mühlhausen (Dauer ca. 90min)\, die Kosten übernimmt der Verein \n– ca. 12.30 Uhr Fahrt zum Mittagessen in das 1. Deutsche Bratwurstmuseum \n– ca. 14.00 Uhr eine kleine Ausfahrt durch die Dörfer der Umgebung teilweise über Feld- und Wiesenwege \n– 17.30- 19.00 Uhr Jahreshauptversammlung inklusive Wasser\, Kaffee\, Tee\, Apfel- und Orangensaft \n– ab ca. 19.00 Uhr gemeinsames Abendessen vom Buffet. Es gibt mehrere Salate und Vorspeisen\, mehrere Hauptgerichte (Fleisch\, Fisch\, Vegetarisch)\, Nachtisch. \nDas Abendessen bezahlt der Verein\, die Getränke müssen selbst gezahlt werden. \nEine Anmeldung ist wegen Altstadtführung und Abendessen am Samstag unbedingt erforderlich: Lada Niva IG
URL:https://ilnt.de/veranstaltung/jahresmitgliederversammlung-der-lada-niva-ig-2025-in-muehlhausen/
CATEGORIES:Frühjahrstreffen,Lada Niva Interessengemeinschaft,LADAtreffen,Mitgliedertreffen
END:VEVENT
END:VCALENDAR