BEGIN:VCALENDAR
VERSION:2.0
PRODID:-//Lada Treffen - ECPv6.15.20//NONSGML v1.0//EN
CALSCALE:GREGORIAN
METHOD:PUBLISH
X-WR-CALNAME:Lada Treffen
X-ORIGINAL-URL:https://ilnt.de
X-WR-CALDESC:Veranstaltungen für Lada Treffen
REFRESH-INTERVAL;VALUE=DURATION:PT1H
X-Robots-Tag:noindex
X-PUBLISHED-TTL:PT1H
BEGIN:VTIMEZONE
TZID:Europe/Berlin
BEGIN:DAYLIGHT
TZOFFSETFROM:+0100
TZOFFSETTO:+0200
TZNAME:CEST
DTSTART:20230326T010000
END:DAYLIGHT
BEGIN:STANDARD
TZOFFSETFROM:+0200
TZOFFSETTO:+0100
TZNAME:CET
DTSTART:20231029T010000
END:STANDARD
BEGIN:DAYLIGHT
TZOFFSETFROM:+0100
TZOFFSETTO:+0200
TZNAME:CEST
DTSTART:20240331T010000
END:DAYLIGHT
BEGIN:STANDARD
TZOFFSETFROM:+0200
TZOFFSETTO:+0100
TZNAME:CET
DTSTART:20241027T010000
END:STANDARD
BEGIN:DAYLIGHT
TZOFFSETFROM:+0100
TZOFFSETTO:+0200
TZNAME:CEST
DTSTART:20250330T010000
END:DAYLIGHT
BEGIN:STANDARD
TZOFFSETFROM:+0200
TZOFFSETTO:+0100
TZNAME:CET
DTSTART:20251026T010000
END:STANDARD
END:VTIMEZONE
BEGIN:VEVENT
DTSTART;TZID=Europe/Berlin:20240504T090000
DTEND;TZID=Europe/Berlin:20240504T220000
DTSTAMP:20260421T011503
CREATED:20231021T233825Z
LAST-MODIFIED:20231024T101221Z
UID:2724-1714813200-1714860000@ilnt.de
SUMMARY:Frühjahrstreffen vom Lada Club Deutschland e.V.
DESCRIPTION:Frühjahrstreffen vom Lada Club Deutschland e.V.
URL:https://ilnt.de/veranstaltung/fruehjahrstreffen-vom-lada-club-deutschland-e-v/
LOCATION:Gräfenhainichen\, Gräfenhainichen\, 06773
CATEGORIES:Frühjahrstreffen,Lada Club Deutschland,LADAtreffen
END:VEVENT
END:VCALENDAR