BEGIN:VCALENDAR
VERSION:2.0
PRODID:-//Lada Treffen - ECPv6.15.20//NONSGML v1.0//EN
CALSCALE:GREGORIAN
METHOD:PUBLISH
X-WR-CALNAME:Lada Treffen
X-ORIGINAL-URL:https://ilnt.de
X-WR-CALDESC:Veranstaltungen für Lada Treffen
REFRESH-INTERVAL;VALUE=DURATION:PT1H
X-Robots-Tag:noindex
X-PUBLISHED-TTL:PT1H
BEGIN:VTIMEZONE
TZID:Europe/Berlin
BEGIN:DAYLIGHT
TZOFFSETFROM:+0100
TZOFFSETTO:+0200
TZNAME:CEST
DTSTART:20240331T010000
END:DAYLIGHT
BEGIN:STANDARD
TZOFFSETFROM:+0200
TZOFFSETTO:+0100
TZNAME:CET
DTSTART:20241027T010000
END:STANDARD
BEGIN:DAYLIGHT
TZOFFSETFROM:+0100
TZOFFSETTO:+0200
TZNAME:CEST
DTSTART:20250330T010000
END:DAYLIGHT
BEGIN:STANDARD
TZOFFSETFROM:+0200
TZOFFSETTO:+0100
TZNAME:CET
DTSTART:20251026T010000
END:STANDARD
BEGIN:DAYLIGHT
TZOFFSETFROM:+0100
TZOFFSETTO:+0200
TZNAME:CEST
DTSTART:20260329T010000
END:DAYLIGHT
BEGIN:STANDARD
TZOFFSETFROM:+0200
TZOFFSETTO:+0100
TZNAME:CET
DTSTART:20261025T010000
END:STANDARD
END:VTIMEZONE
BEGIN:VEVENT
DTSTART;TZID=Europe/Berlin:20250801T160000
DTEND;TZID=Europe/Berlin:20250803T150000
DTSTAMP:20260421T205327
CREATED:20250727T114216Z
LAST-MODIFIED:20250727T114216Z
UID:8008-1754064000-1754233200@ilnt.de
SUMMARY:Lada Meeting 2025 im Camp Pacho - Slovakei
DESCRIPTION:Das 8. Lada Treffen der „Lada Family Slovkia“ im Camp Pacho\, Slovakei. \nLada meeting Vol. 8. (2025) since 2018 organizované občianskym združením Lada Family Slovakia. \nMehr Infos auf der facebook-Seite: LADA Meeting 2025 | Facebook \nEnglish:Lada Meeting Vol. 8. (2025) since 2018organized by civil society organization Lada Family Slovakia\nWe would like to invite you to a car event for Lada enthusiasts in a new and pleasant atmosphere near Prievidza\, in Camp Pacho.Because this is already the 8th edition of this favourite and successful event\, we have prepared a lot of gifts and lively program.This is not just a veteran event\, it’s about meeting up with enthusiasts\, friends and family\, finding inspiration and meeting new people with the same Lada diagnosis.Friday16:00 arrivalGrill & Chill Party ( with DJ Speedee and our special grill)– measuring of loud exhaustsSaturday– Competitions– mini slalom– CAR LIMBO– Show & Shine – car presentation (TOP 5)– TOP STATIC– TOP Wheels– TOP Engine– TOP Air– Prize of the organiserSunday– 11:00 check out from accommodation\,Entry: 13€ / person + camping fee20€ / person for 3 days10€ / person for 2 daysAccommodation in wooden cabins booked at receptionKoliba Pacho resortwww.kolibapacho.sk pacho@kolibapacho.skGPS:48° 46′ 53.7206298″ N18° 41′ 1.1632347″ EFollow us on our ladameeting_slovakia instagram profile to receive the newest information and stay in loop.
URL:https://ilnt.de/veranstaltung/lada-meeting-2025-im-camp-pacho-slovakei/
LOCATION:Camp Pacho\, Veľká Čausa 183\, Veľká Čausa\, 971 01\, Slovakia (Slovak Republic)
CATEGORIES:international,LADAtreffen
ORGANIZER;CN="Lada Meeting Slovakia":MAILTO:ladafamily.slovakia@gmail.com
END:VEVENT
BEGIN:VEVENT
DTSTART;TZID=Europe/Berlin:20250801T180000
DTEND;TZID=Europe/Berlin:20250803T100000
DTSTAMP:20260421T205327
CREATED:20250205T130416Z
LAST-MODIFIED:20250524T121113Z
UID:7570-1754071200-1754215200@ilnt.de
SUMMARY:Sommertreffen vom Lada Club Deutschland bei Jena
DESCRIPTION:Der Lada Club Deutschland organisiert jährlich ein Frühjahrstreffen\, ein Sommertreffen\, Herbsttreffen und ein Adventstreffen für Lada Fans. \nDas Sommertreffen 2025 findet von Freitag-Abend (01.08.) bis Sonntag-Morgen (03.08.) auf dem Campingplatz in  Jena-Porstendorf  statt. \nWeitere Infos gibt es im Forum und auf der Webseite vom Lada Club: https://lada-club.de/ \n  \n 
URL:https://ilnt.de/veranstaltung/sommertreffen-vom-lada-club-deutschland-bei-jena/
CATEGORIES:Lada Club Deutschland,Sommertreffen
END:VEVENT
BEGIN:VEVENT
DTSTART;TZID=Europe/Berlin:20250815T170000
DTEND;TZID=Europe/Berlin:20250817T120000
DTSTAMP:20260421T205327
CREATED:20250627T185442Z
LAST-MODIFIED:20250727T111820Z
UID:7757-1755277200-1755432000@ilnt.de
SUMMARY:Russentreffen - russische Fahrzeuge in Königsbrück
DESCRIPTION:Wie vor ein paar Jahren die Made in Russia Treffen findet dieses Jahr wieder ein Treffen von Fans der russischen Fahrzeuge auf dem Gelände vom Offizierskasino Neues Lager Königsbrück statt. Dort werden einige Ladas und Lada Nivas zu sehen sein\, aber auch andere Fahrzeuge aus ursprünglicher sowjetischer oder russischer Bauart… \nNähere Infos folgen noch bzw. gibt es auf der Facebook-Seite mit der Veranstaltungs-Ankündigung…
URL:https://ilnt.de/veranstaltung/russentreffen-russische-fahrzeuge-in-koenigsbrueck/
LOCATION:Offizierskasino Neues Lager Königsbrück\, Hoyerswerdaer Str. 117\, Königsbrück\, 01936
CATEGORIES:Fahrzeugtreffen
END:VEVENT
END:VCALENDAR