BEGIN:VCALENDAR
VERSION:2.0
PRODID:-//Lada Treffen - ECPv6.15.20//NONSGML v1.0//EN
CALSCALE:GREGORIAN
METHOD:PUBLISH
X-ORIGINAL-URL:https://ilnt.de
X-WR-CALDESC:Veranstaltungen für Lada Treffen
REFRESH-INTERVAL;VALUE=DURATION:PT1H
X-Robots-Tag:noindex
X-PUBLISHED-TTL:PT1H
BEGIN:VTIMEZONE
TZID:Europe/Berlin
BEGIN:DAYLIGHT
TZOFFSETFROM:+0100
TZOFFSETTO:+0200
TZNAME:CEST
DTSTART:20230326T010000
END:DAYLIGHT
BEGIN:STANDARD
TZOFFSETFROM:+0200
TZOFFSETTO:+0100
TZNAME:CET
DTSTART:20231029T010000
END:STANDARD
BEGIN:DAYLIGHT
TZOFFSETFROM:+0100
TZOFFSETTO:+0200
TZNAME:CEST
DTSTART:20240331T010000
END:DAYLIGHT
BEGIN:STANDARD
TZOFFSETFROM:+0200
TZOFFSETTO:+0100
TZNAME:CET
DTSTART:20241027T010000
END:STANDARD
BEGIN:DAYLIGHT
TZOFFSETFROM:+0100
TZOFFSETTO:+0200
TZNAME:CEST
DTSTART:20250330T010000
END:DAYLIGHT
BEGIN:STANDARD
TZOFFSETFROM:+0200
TZOFFSETTO:+0100
TZNAME:CET
DTSTART:20251026T010000
END:STANDARD
END:VTIMEZONE
BEGIN:VEVENT
DTSTART;TZID=Europe/Berlin:20240830T140000
DTEND;TZID=Europe/Berlin:20240901T140000
DTSTAMP:20260422T141616
CREATED:20240529T182753Z
LAST-MODIFIED:20240619T183255Z
UID:6551-1725026400-1725199200@ilnt.de
SUMMARY:Oostblok Meeting 2024 in Belgien
DESCRIPTION:Das Oostblok-Treffen ist ein Oldtimertreffen für Fahrzeuge aus dem ehemaligen Ostblock. Die 6. Auflage findet am 30. und 31. August 2024 auf dem Glosso Circuit in Arendonk statt. Gebaut für die harten Bedingungen der östlichen Straßen\, von der DDR bis zu den entlegenen Gebieten der UdSSR oder den windigen Straßen des Balkans. Diese Fahrzeuge haben bewiesen\, dass sie den Herausforderungen des Alltags ebenso gewachsen sind wie denen des internationalen Motorsports. Ostblock-Enthusiasten aus ganz Belgien\, den Niederlanden\, Deutschland\, dem Vereinigten Königreich und Frankreich kommen zu diesem jährlichen Treffen mit Camping\, Musik\, Open-Air-Kino\, Kofferraumverkauf\, Rundfahrt und Rennshow. \nDas Oostblok-Treffen ist eine einzigartige Veranstaltung in Belgien. Im Jahr 2023 hatten wir über 150 Fahrzeuge\, mehr als 400 Teilnehmer und Tausende von Besuchern. Das Ambiente war großartig\, und unsere Gäste haben ihre besten Eindrücke in den sozialen Medien geteilt. Wir hatten auch eine hervorragende Presseberichterstattung\, über die in den wichtigsten niederländischsprachigen Medien wie VRT News\, Gazette van Antwerpen\, Nieuwsblad\, Het Laatste Nieuws und RTV berichtet wurde\, sowie viele weitere Erwähnungen in der belgischen und ausländischen Automobilpresse. Wir sind fest entschlossen\, die Veranstaltung 2024 noch unvergesslicher zu machen. Wir haben bereits die Ärmel hochgekrempelt!  Dieses Mal werden wir die Rolle von Marken wie Skoda\, Lada\, Wartburg oder Trabant und anderen im Motorsport hervorheben. Von der technologischen Innovation bis zur Teilnahme an historischen Rennen wie der Rallye Monte Carlo oder Paris-Dakar spielten (und spielen) diese Fahrzeuge eine bedeutende Rolle in der östlichen und westlichen Hemisphäre. Wir arbeiten an einem Programm: Zusammen mit den Maschinen werden wir die Legenden dieser Geschichte einladen\, wie den Belgier Jacky-Ickx\, den Franzosen Jean-Claude Briavoine und andere. \nOostblok Meeting 2024 – 30-31 August 2024 \nKontakte: www.oostblokmeeting.be || info@oostblokmeeting.be\nOrt der Veranstaltung: Glosso Circuit – Schotelven 143/N139\, 2370 Arendonk (Belgien). \nPreise:\nWochenende alles inklusive (pro Person): ab 50Eur\nTeilnahme am Samstag (Fahrzeug): ab 6Eur\nBesucher: kostenlos \nÖffnungszeiten:\nDer Campingplatz ist am Freitag ab 14 Uhr geöffnet. \nTreffpunkt Samstag\, 31. August: ab 09:00 Uhr.\nBeginn der Wanderung: 11.00 Uhr. \nWeitere Informationen und Anmeldung unter http://www.oostblokmeeting.be
URL:https://ilnt.de/veranstaltung/oostblok-meeting-2024-in-belgien/
LOCATION:Glosso Circuit\, Schotelven 143/N139\, Arendonk\, 2370\, Belgien
CATEGORIES:Belgien,international,LADAtreffen,Sommertreffen
ORGANIZER;CN="Oostblok Meeting":MAILTO:Info@oostblokmeeting.be
END:VEVENT
BEGIN:VEVENT
DTSTART;TZID=Europe/Berlin:20240906T160000
DTEND;TZID=Europe/Berlin:20240908T170000
DTSTAMP:20260422T141616
CREATED:20240801T153606Z
LAST-MODIFIED:20240921T153918Z
UID:6557-1725638400-1725814800@ilnt.de
SUMMARY:Defender und Lada Klassikertreffen
DESCRIPTION:Kulti trifft Kulti – Defender und Lada-Treffen von @defendergirlsgermany in Warendorf
URL:https://ilnt.de/veranstaltung/defender-und-lada-klassikertreffen/
CATEGORIES:LADAtreffen,Sommertreffen
END:VEVENT
BEGIN:VEVENT
DTSTART;TZID=Europe/Berlin:20240913T160000
DTEND;TZID=Europe/Berlin:20240915T170000
DTSTAMP:20260422T141616
CREATED:20231222T075312Z
LAST-MODIFIED:20250503T125259Z
UID:6205-1726243200-1726419600@ilnt.de
SUMMARY:Adventure Northside 2024
DESCRIPTION:Vom 13.- 15. September 2024 fand die Adventure Northside auf dem Gut Basthorst in der Nähe von Hamburg statt. Seit mehreren Jahren sind Lada Niva Fans und die Lada Niva IG mit einem Camp und Stand auf der Offroad-Messe Adventure Northside engagiert. Mehr Infos über die Adventure Northside  Offroad- und Survival-Messe gibt es unter: https://adventurenorthside.de
URL:https://ilnt.de/veranstaltung/adventure-northside-2024/
LOCATION:Gut Basthorst\, Auf dem Gut 3\, Basthorst\, 21493
CATEGORIES:AdventureNorthside,Messen,Offroad-Messe
END:VEVENT
BEGIN:VEVENT
DTSTART;TZID=Europe/Berlin:20240927T160000
DTEND;TZID=Europe/Berlin:20240929T150000
DTSTAMP:20260422T141616
CREATED:20240708T122744Z
LAST-MODIFIED:20240710T122802Z
UID:6554-1727452800-1727622000@ilnt.de
SUMMARY:Lada Niva Herbst-Treffen in Peckfitz
DESCRIPTION:Auch im Herbst 2024 findet wieder das vom „Lada-Horst“ initiierte und inzwischen traditionelle kleine Niva Treffen auf dem Fahrgelände Wurzelsepp in Peckfitz statt. \nLada Niva Herbsttreffen auf dem Fahrgelände Wurzelsepp in Peckfitz vom 27 bis 29 September 2024 \nUnser diesjähriges Kleines Niva Herbsttreffen findet vom \n27 bis 29 September statt. \nWie sonst auch zahlt die Gebühren für die Geländenutzung / Übernachtung jeder für sich beim Geländebetreiber. \nUns steht ( wie bei den vergangenen Veranstaltungen auch)\, ein Camping Areal\,\nsowie der große „Aufenthalts-Container“ mit Holzofen als Gruppenraum zu unser Verfügung. \n(Eine spezielle nivatypische „Spardose“ freut sich über eure Spenden und steht vor Ort bereit.\nMit dem Inhalt sollen die Kosten für die Nutzung des „Aufenthalts-Containers“ beglichen werden) \nWer nicht campen möchte und lieber im OffRoad Hotel\, dort auf dem Fahrgelände\, übernachten möchte\, möge bitte rechtzeitig dort sein Zimmer reservieren/ buchen. \nBeachtet bitte die Hinweise und Regeln sowie die Öffnungszeiten des Geländes auf der Homepage des Geländebetreibers (vor allem die „Spätanreiser“) \nHier geht es zur Homepage des Betreibers\nhttp://www.wurzelsepp-peckfitz.de/ \nZur Veranstaltungsseite auf facebook: \nLada Niva Herbsttreffen auf dem Fahrgelände Wurzelsepp in Peckfitz | Facebook
URL:https://ilnt.de/veranstaltung/lada-niva-herbst-treffen-in-peckfitz/
LOCATION:Offroadpark Peckfitz\, Waldsiedlung 1\, Gardelegen\, 39649
CATEGORIES:Herbsttreffen,Offroad-Park
END:VEVENT
END:VCALENDAR