BEGIN:VCALENDAR
VERSION:2.0
PRODID:-//Lada Treffen - ECPv6.15.20//NONSGML v1.0//EN
CALSCALE:GREGORIAN
METHOD:PUBLISH
X-WR-CALNAME:Lada Treffen
X-ORIGINAL-URL:https://ilnt.de
X-WR-CALDESC:Veranstaltungen für Lada Treffen
REFRESH-INTERVAL;VALUE=DURATION:PT1H
X-Robots-Tag:noindex
X-PUBLISHED-TTL:PT1H
BEGIN:VTIMEZONE
TZID:Europe/Berlin
BEGIN:DAYLIGHT
TZOFFSETFROM:+0100
TZOFFSETTO:+0200
TZNAME:CEST
DTSTART:20230326T010000
END:DAYLIGHT
BEGIN:STANDARD
TZOFFSETFROM:+0200
TZOFFSETTO:+0100
TZNAME:CET
DTSTART:20231029T010000
END:STANDARD
BEGIN:DAYLIGHT
TZOFFSETFROM:+0100
TZOFFSETTO:+0200
TZNAME:CEST
DTSTART:20240331T010000
END:DAYLIGHT
BEGIN:STANDARD
TZOFFSETFROM:+0200
TZOFFSETTO:+0100
TZNAME:CET
DTSTART:20241027T010000
END:STANDARD
BEGIN:DAYLIGHT
TZOFFSETFROM:+0100
TZOFFSETTO:+0200
TZNAME:CEST
DTSTART:20250330T010000
END:DAYLIGHT
BEGIN:STANDARD
TZOFFSETFROM:+0200
TZOFFSETTO:+0100
TZNAME:CET
DTSTART:20251026T010000
END:STANDARD
END:VTIMEZONE
BEGIN:VEVENT
DTSTART;VALUE=DATE:20240607
DTEND;VALUE=DATE:20240610
DTSTAMP:20260422T191550
CREATED:20231029T190825Z
LAST-MODIFIED:20231029T190825Z
UID:3397-1717718400-1717977599@ilnt.de
SUMMARY:1. Lada Niva Treffen in Niederbayern
DESCRIPTION:Servus – Walter & sein WFT-uning-Performance Team laden zum ersten Lada Niva Treffen in Niederbayern ein!\n\n\nDie Daten des Treffens lauten:\n07.06.2024 bis 09.06.2024\n\n\nNähere Infos folgen noch. \n\n\n\n \n„Ich hoffe eine Menge bekannter Freunde treffen zu können und eine größere Menge an neue Menschen und Interessenten.“\n\n\nServus und bis zum nächsten Mal\nEuer WFT-uning-Performance Team\n\n\nwww.wft-uning-performance.de
URL:https://ilnt.de/veranstaltung/1-lada-niva-treffen-in-niederbayern/
LOCATION:Straubing\, Straubing\, 94315
CATEGORIES:LADAtreffen,Sommertreffen,Straubing
END:VEVENT
BEGIN:VEVENT
DTSTART;TZID=Europe/Berlin:20240614T160000
DTEND;TZID=Europe/Berlin:20240616T170000
DTSTAMP:20260422T191550
CREATED:20240101T092609Z
LAST-MODIFIED:20240101T094322Z
UID:6212-1718380800-1718557200@ilnt.de
SUMMARY:Drittes Lada Niva Nordlichter-Treffen
DESCRIPTION:3. Nordlichter-Treffen vom 14. bis 16. Juni 2024 in Karenz. \nImmer mal wieder kommen einige Lada Niva Fahrer zusammen\, um ein wenig Offroad zu fahren und gemütlich beisammen zu sitzen. 2023 fanden die ersten beiden Treffen statt\, auch 2024 gibt es wieder zwei Nordlichter-Treffen im Offroad-Park Karenz. \nInfos zum Offroad Freizeit Camp Karenz gibt es unter: www.ofck.de  \nHier gibt es Fotos und Videos über die zurückliegenden Treffen der Nordlichter…
URL:https://ilnt.de/veranstaltung/drittes-lada-niva-nordlichter-treffen/
LOCATION:Offroad Freizeit Camp Karenz\, Malker Weg 22\, Karenz\, 19294
CATEGORIES:LADAtreffen,Nordlichter,Offroad-Park,Sommertreffen
END:VEVENT
BEGIN:VEVENT
DTSTART;TZID=Europe/Berlin:20240621T090000
DTEND;TZID=Europe/Berlin:20240623T170000
DTSTAMP:20260422T191550
CREATED:20240522T160437Z
LAST-MODIFIED:20240522T160437Z
UID:6462-1718960400-1719162000@ilnt.de
SUMMARY:1. Niva- und Buchanka-Treffen 2024 im Offroadpark Bayern
DESCRIPTION:Der Offroadpark Bayern veranstaltet sein 1. Niva- und Buchanka-Treffen vom 21. – 12. Juni 2024\, Freitag bis Sonntag. Gleichgesinnte treffen\, quatschen\, fahren\, Schlammlöcher unsicher machen und neue Freundschaften schließen.Ob Niva\, Bonto\, Taiga\, Buchanka\, Hunter oder Patriot – alle sind willkommen!Das Treffen ist aktuell als reiner Selbstversorger-Event geplant.\nÜbernachtungen im Fahrerlager oder in umliegenden Hotels. Für die gemeinsamen Lagerfeuer darf gerne Holz mitgebracht werden. Feuerschale befindet sich vor Ort.\n \nAlle Teilnehmer bitte formlos anmelden unter info@offroadpark-bayern.de.Es gelten die folgende Preise:Tagesticket 30\,00 €Halbtagesticket 20\,00 €Übernachtung 15\,00 €Der Park bietet ein Wochenendticket für 70\,00 € – egal wieviel Tage ihr fahrt und wie oft ihr übernachtet – Ihr zahlt maximal diese 70\,00 Euro! Wenn Ihr nur übernachtet oder auch nur einen halben Tag ins Gelände wollt\, ist das auch in Ordnung. Zur Registrierung bitte zu Anmeldung in den Offroadpark kommen\, hier gibt es dann Teilnahmeaufkleber.\n 
URL:https://ilnt.de/veranstaltung/1-niva-und-buchanka-treffen-2024-im-offroadpark-bayern/
LOCATION:Offroadpark Bayern\, Am Offroadpark 1\, Großmehring\, Bayern\, 85098
CATEGORIES:Offroad-Park
END:VEVENT
BEGIN:VEVENT
DTSTART;TZID=Europe/Berlin:20240621T170000
DTEND;TZID=Europe/Berlin:20240623T160000
DTSTAMP:20260422T191550
CREATED:20231119T151139Z
LAST-MODIFIED:20240511T154330Z
UID:6138-1718989200-1719158400@ilnt.de
SUMMARY:NIVA Adventure 2024 - musste leider abgesagt werden
DESCRIPTION:Vom 21.-23. Juni 2024 war das 2. NIVA Adventure vom Lada Club Deutschland geplant. Der ursprünglich geplante Veranstaltungsort musste gewechselt werden. Das Treffen wird sollte wie die regelmäßigen Internationalen Ostblocktreffen-Fahrzeugtreffen auf dem Gelände vom Technikverein Pütnitz stattfinden. Aufgrund mangelnder Anmeldungen wurde das Treffen leider abgesagt. \n  \nRückblick: \nImpressionen und Rückblick zum 1. NIVA Adventure im Juni 2023 …
URL:https://ilnt.de/veranstaltung/niva-adventure-2024/
LOCATION:Technikverein Pütnitz e.V.\, Flugplatzallee 5\, Ribnitz-Damgarten\, 18311\, Deutschland
CATEGORIES:Lada Club Deutschland,Niva Adventure
END:VEVENT
BEGIN:VEVENT
DTSTART;TZID=Europe/Berlin:20240629T100000
DTEND;TZID=Europe/Berlin:20240629T160000
DTSTAMP:20260422T191550
CREATED:20240522T162011Z
LAST-MODIFIED:20240522T162011Z
UID:6468-1719655200-1719676800@ilnt.de
SUMMARY:Berlin Offroad Fun - Freies Fahren in Basdorf
DESCRIPTION:Freies Fahren in Basdorf. Infos aus dem Technik-Forum:  \nLiebe Lada-Freunde\, \nlang lang ist’s her. Wir laden gern mal wieder ein zum freien Offroad-Fahren in Basdorf am Samstag\, den 29.06.2024 \n \nWas erwartet euch?\nEs gibt kein Programm\, keine Übernachtung\, kein Brimborium\, keine Anmeldeplicht. (keine „Veranstaltung“) \nDafür aber artgerechte Haltung für LADA NIVA\, UAZ & Co. im Norden Berlins\, mit viel Zeit für Erfahrungsaustausch\, Spaß und gegenseitige Hilfe.\nZeitraum: ca. 10:00 – 16:00 Uhr\n \nWo ist das?\nGelände der https://offroad-tiger.de In Wandlitz OT Basdorf 10 km nördlich von Berlin an der B109. Gegenüber der Einmündung Lanker Str. folgt ihr dem Feldweg am Friedhof vorbei in Richtung Reiterhof.\nKoordinaten (Dezimalgrad):\n52.728076N\, 13.424607E \nWas kostet das?\nJeder bezahlt selbst beim Betreiber vor Ort (40€ pro Fahrzeug ).\nMitfahrer und Tagesgäste\, die nur gucken: Kostenlos.\nGanz unkompliziert! Vorher anmelden müsst ihr euch nicht.\nAber ich habe angekündigt\, dass ein paar nette Lada Leute kommen und sie freuen sich! \nWas wünschen wir uns?\nBitte beachtet die Regeln der https://offroad-tiger.de und für den Hunger zwischendurch bringt bitte jeder einfach selbst etwas mit!  \nWir freuen uns auf echten Spaß in der Region mit Euch und Euren Fahrzeugen! Endlich mal wieder live!\nGLG Fisch\nentweder mit UAZ oder Niva \nMehr Infos hier
URL:https://ilnt.de/veranstaltung/berlin-offroad-fun-freies-fahren-in-basdorf/
LOCATION:Off-Road Tiger Basdorf\, Off-Road-Tiger Fahrgelände\, Wandlitz\, 16348
CATEGORIES:Offroad-Park
END:VEVENT
END:VCALENDAR